Workbook

Sheet Tables 1-3
A1: Date | B1: S&P 500 | C1: Apple Inc. | D1: Nasdaq | E1: Microsoft Corporation (MSFT) | F1: Alphabet Inc. (GOOG) | H1: Return | I1: Date | J1: S&P 500 | K1: Apple Inc. | L1: Nasdaq | M1: Microsoft Corporation (MSFT) | N1: Alphabet Inc. (GOOG)
B2: Index | C2: Price | D2: Index | E2: Price | F2: Price | Q2: return | R2: return | S2: return | T2: return | U2: return
A3: 41061 | B3: 1362.16 | C3: 73.085846 | D3: 2935.05 | E3: 25.736992 | F3: 288.95193 | I3: 41091 | J3: =B4/B3-1 -> 0.012597574 | K3: =C4/C3-1 -> 0.045822087 | L3: =D4/D3-1 -> 0.0015229624 | M3: =E4/E3-1 -> -0.036613447 | N3: =F4/F3-1 -> 0.091195883
A4: 41091 | B4: 1379.3199 | C4: 76.434792 | D4: 2939.52 | E4: 24.794672 | F4: 315.30316 | I4: 41122 | J4: =B5/B4-1 -> 0.01976337 | K4: =C5/C4-1 -> 0.089200517 | L4: =D5/D4-1 -> 0.043353997 | M4: =E5/E4-1 -> 0.045809519 | N4: =F5/F4-1 -> 0.082341949
A5: 41122 | B5: 1406.58 | C5: 83.252815 | D5: 3066.96 | E5: 25.930504 | F5: 341.26584 | I5: 41153 | J5: =B6/B5-1 -> 0.024236154 | K5: =C6/C5-1 -> 0.0071011052 | L5: =D6/D5-1 -> 0.016064774 | M5: =E6/E5-1 -> -0.027996602 | N5: =F6/F5-1 -> 0.10131518
A6: 41153 | B6: 1440.67 | C6: 83.844002 | D6: 3116.23 | E6: 25.204538 | F6: 375.84125 | I6: 41183 | J6: =B7/B6-1 -> -0.01978941 | K6: =C7/C6-1 -> -0.10759991 | L6: =D7/D6-1 -> -0.04460518 | M6: =E7/E6-1 -> -0.040994602 | N6: =F7/F6-1 -> -0.098343269
A7: 41183 | B7: 1412.16 | C7: 74.822395 | D7: 2977.23 | E7: 24.171288 | F7: 338.87979 | I7: 41214 | J7: =B8/B7-1 -> 0.002846717 | K7: =C8/C7-1 -> -0.016864683 | L7: =D8/D7-1 -> 0.011087491 | M7: =E8/E7-1 -> -0.06727366 | N7: =F8/F7-1 -> 0.026561782
A8: 41214 | B8: 1416.1801 | C8: 73.560539 | D8: 3010.24 | E8: 22.545197 | F8: 347.88104 | I8: 41244 | J8: =B9/B8-1 -> 0.0070682305 | K8: =C9/C8-1 -> -0.086589985 | L8: =D9/D8-1 -> 0.0030794953 | M8: =E9/E8-1 -> 0.011625625 | N8: =F9/F8-1 -> 0.012901508 | R8: Two graphs
A9: 41244 | B9: 1426.1899 | C9: 67.190933 | D9: 3019.51 | E9: 22.807299 | F9: 352.36923 | I9: 41275 | J9: =B10/B9-1 -> 0.050428097 | K9: =C10/C9-1 -> -0.14408949 | L9: =D10/D9-1 -> 0.040609196 | M9: =E10/E9-1 -> 0.02770499 | N9: =F10/F9-1 -> 0.06829424
A10: 41275 | B10: 1498.11 | C10: 57.509426 | D10: 3142.1299 | E10: 23.439175 | F10: 376.43402 | I10: 41306 | J10: =B11/B10-1 -> 0.011060649 | K10: =C11/C10-1 -> -0.030933642 | L10: =D11/D10-1 -> 0.0057477121 | M10: =E11/E10-1 -> 0.012750449 | N10: =F11/F10-1 -> 0.060223154
A11: 41306 | B11: 1514.6801 | C11: 55.73045 | D11: 3160.1899 | E11: 23.738035 | F11: 399.10406 | I11: 41334 | J11: =B12/B11-1 -> 0.035987724 | K11: =C12/C11-1 -> 0.0086990505 | L11: =D12/D11-1 -> 0.033963173 | M11: =E12/E11-1 -> 0.037657203 | N11: =F12/F11-1 -> -0.0087493797
A12: 41334 | B12: 1569.1899 | C12: 56.215252 | D12: 3267.52 | E12: 24.631943 | F12: 395.61215 | I12: 41365 | J12: =B13/B12-1 -> 0.018085768 | K12: =C13/C12-1 -> 0.00027095849 | L12: =D13/D12-1 -> 0.01875123 | M12: =E13/E12-1 -> 0.15693841 | N12: =F13/F12-1 -> 0.038252794
A13: 41365 | B13: 1597.5699 | C13: 56.230484 | D13: 3328.79 | E13: 28.497641 | F13: 410.74542 | I13: 41395 | J13: =B14/B13-1 -> 0.020762812 | K13: =C14/C13-1 -> 0.015696433 | L13: =D14/D13-1 -> 0.038188012 | M13: =E14/E13-1 -> 0.054380466 | N13: =F14/F13-1 -> 0.056574982
A14: 41395 | B14: 1630.74 | C14: 57.113102 | D14: 3455.9099 | E14: 30.047356 | F14: 433.98334 | I14: 41426 | J14: =B15/B14-1 -> -0.014999302 | K14: =C15/C14-1 -> -0.11245719 | L14: =D15/D14-1 -> -0.01523764 | M14: =E15/E14-1 -> -0.003375272 | N14: =F15/F14-1 -> 0.010502459
A15: 41426 | B15: 1606.28 | C15: 50.690323 | D15: 3403.25 | E15: 29.945938 | F15: 438.54123 | I15: 41456 | J15: =B16/B15-1 -> 0.04946208 | K15: =C16/C15-1 -> 0.14122508 | L15: =D16/D15-1 -> 0.065560895 | M15: =E16/E15-1 -> -0.078170235 | N15: =F16/F15-1 -> 0.0083828811
A16: 41456 | B16: 1685.73 | C16: 57.849068 | D16: 3626.3701 | E16: 27.605057 | F16: 442.21747 | I16: 41487 | J16: =B17/B16-1 -> -0.031298019 | K16: =C17/C16-1 -> 0.076658054 | L16: =D17/D16-1 -> -0.010065161 | M16: =E17/E16-1 -> 0.048994864 | N16: =F17/F16-1 -> -0.046015197
A17: 41487 | B17: 1632.97 | C17: 62.283665 | D17: 3589.8701 | E17: 28.957563 | F17: 421.86874 | I17: 41518 | J17: =B18/B17-1 -> 0.029749523 | K17: =C18/C17-1 -> -0.015028579 | L17: =D18/D17-1 -> 0.050589536 | M17: =E18/E17-1 -> 0.0034285344 | N17: =F18/F17-1 -> 0.034254341
A18: 41518 | B18: 1681.55 | C18: 61.34763 | D18: 3771.48 | E18: 29.056845 | F18: 436.31958 | I18: 41548 | J18: =B19/B18-1 -> 0.044595753 | K18: =C19/C18-1 -> 0.096381996 | L18: =D19/D18-1 -> 0.039302868 | M18: =E19/E18-1 -> 0.064002475 | N18: =F19/F18-1 -> 0.17658205
A19: 41548 | B19: 1756.54 | C19: 67.260437 | D19: 3919.71 | E19: 30.916555 | F19: 513.36578 | I19: 41579 | J19: =B20/B19-1 -> 0.028049472 | K19: =C20/C19-1 -> 0.063841482 | L19: =D20/D19-1 -> 0.035762833 | M19: =E20/E19-1 -> 0.076814445 | N19: =F20/F19-1 -> 0.028149139
A20: 41579 | B20: 1805.8101 | C20: 71.554443 | D20: 4059.8899 | E20: 33.291393 | F20: 527.81659 | I20: 41609 | J20: =B21/B20-1 -> 0.023562792 | K20: =C21/C20-1 -> 0.014791898 | L20: =D21/D20-1 -> 0.02874461 | M20: =E21/E20-1 -> -0.011441876 | N20: =F21/F20-1 -> 0.05768277
... A86: 43586 | B86: 2752.0601 | C86: 174.39841 | D86: 7453.1499 | E86: 123.22387 | F86: 1103.63 | I86: 43617 | J86: =B87/B86-1 -> 0.068930164 | K86: =C87/C86-1 -> 0.13487274 | L86: =D87/D86-1 -> 0.074208937 | M86: =E87/E86-1 -> 0.087127097 | N86: =F87/F86-1 -> -0.020586583
A87: 43617 | B87: 2941.76 | C87: 197.92 | D87: 8006.2402 | E87: 133.96001 | F87: 1080.91 | I87: Average | J87: =AVERAGE(J3:J86) -> 0.0097147106 | K87: =AVERAGE(K3:K86) -> 0.014732703 | L87: =AVERAGE(L3:L86) -> 0.012748843 | M87: =AVERAGE(M3:M86) -> 0.021499936 | N87: =AVERAGE(N3:N86) -> 0.017451113
I88: S.D. | J88: =_xlfn.STDEV.S(J3:J86) -> 0.031968508 | K88: =_xlfn.STDEV.S(K3:K86) -> 0.075035487 | L88: =_xlfn.STDEV.S(L3:L86) -> 0.03841149 | M88: =_xlfn.STDEV.S(M3:M86) -> 0.05885947 | N88: =_xlfn.STDEV.S(N3:N86) -> 0.058250928
I89: Annual return | J89: =J87*12 -> 0.11657653 | K89: =K87*12 -> 0.17679244 | L89: =L87*12 -> 0.15298611 | M89: =M87*12 -> 0.25799923 | N89: =N87*12 -> 0.20941336
I90: Annual S.D. | J90: =J88*12 -> 0.3836221 | K90: =K88*12 -> 0.90042585 | L90: =L88*12 -> 0.46093788 | M90: =M88*12 -> 0.70631364 | N90: =N88*12 -> 0.69901113

Sheet Correlation matrix
B1: S&P 500 | C1: Apple Inc. | D1: Nasdaq | E1: MSFT | F1: GOOG
A2: S&P 500 | B2: 1
A3: Apple Inc. | B3: 0.50008022 | C3: 1
A4: Nasdaq | B4: 0.93164073 | C4: 0.61573052 | D4: 1
A5: Microsoft Corporation (MSFT) | B5: 0.55392854 | C5: 0.36394973 | D5: 0.56656656 | E5: 1
A6: Alphabet Inc. (GOOG) | B6: 0.54528289 | C6: 0.26606203 | D6: 0.61241414 | E6: 0.45021885 | F6: 1

Sheet Regression inputs
B1: Inputs of Table 5 | E1: Inputs of Table 6 | H1: Inputs of Table 7
B2: Apple Inc. | C2: S&P 500 | E2: MSFT | F2: S&P 500 | H2: GOOG | I2: S&P 500 | L2: Apple Inc. | M2: Microsoft Corporation (MSFT) | N2: Alphabet Inc. (GOOG)
A3: ='Tables 1-3'!I3 -> 41091 | B3: ='Tables 1-3'!K3 -> 0.045822087 | C3: ='Tables 1-3'!J3 -> 0.012597574 | E3: ='Tables 1-3'!M3 -> -0.036613447 | F3: ='Tables 1-3'!J3 -> 0.012597574 | H3: ='Tables 1-3'!N3 -> 0.091195883 | I3: =F3 -> 0.012597574 | K3: Beta | L3: 1.09 | M3: 1.02 | N3: 0.99 | O3: =AVERAGE(L3:N3) -> 1.0333333
A4: ='Tables 1-3'!I4 -> 41122 | B4: ='Tables 1-3'!K4 -> 0.089200517 | C4: ='Tables 1-3'!J4 -> 0.01976337 | E4: ='Tables 1-3'!M4 -> 0.045809519 | F4: ='Tables 1-3'!J4 -> 0.01976337 | H4: ='Tables 1-3'!N4 -> 0.082341949 | I4: =F4 -> 0.01976337 | K4: Annual return | L4: ='Tables 1-3'!K89 -> 0.17679244 | M4: ='Tables 1-3'!M89 -> 0.25799923 | N4: ='Tables 1-3'!N89 -> 0.20941336 | O4: =AVERAGE(L4:N4) -> 0.21473501
A5: ='Tables 1-3'!I5 -> 41153 | B5: ='Tables 1-3'!K5 -> 0.0071011052 | C5: ='Tables 1-3'!J5 -> 0.024236154 | E5: ='Tables 1-3'!M5 -> -0.027996602 | F5: ='Tables 1-3'!J5 -> 0.024236154 | H5: ='Tables 1-3'!N5 -> 0.10131518 | I5: =F5 -> 0.024236154 | K5: Expected return | L5: ='Tables 1-3'!J89 -> 0.11657653 | M5: ='Tables 1-3'!L89 -> 0.15298611 | N5: =M5 -> 0.15298611
A6: ='Tables 1-3'!I6 -> 41183 | B6: ='Tables 1-3'!K6 -> -0.10759991 | C6: ='Tables 1-3'!J6 -> -0.01978941 | E6: ='Tables 1-3'!M6 -> -0.040994602 | F6: ='Tables 1-3'!J6 -> -0.01978941 | H6: ='Tables 1-3'!N6 -> -0.098343269 | I6: =F6 -> -0.01978941 | K6: Jensen's alpha | L6: =$O$4-(2%+(L3*(L5-2%))) -> 0.089466593 | M6: =$O$4-(2%+(M3*(M5-2%))) -> 0.059089174 | N6: =$O$4-(2%+(N3*(N5-2%))) -> 0.063078757
A7: ='Tables 1-3'!I7 -> 41214 | B7: ='Tables 1-3'!K7 -> -0.016864683 | C7: ='Tables 1-3'!J7 -> 0.002846717 | E7: ='Tables 1-3'!M7 -> -0.06727366 | F7: ='Tables 1-3'!J7 -> 0.002846717 | H7: ='Tables 1-3'!N7 -> 0.026561782 | I7: =F7 -> 0.002846717
A8: ='Tables 1-3'!I8 -> 41244 | B8: ='Tables 1-3'!K8 -> -0.086589985 | C8: ='Tables 1-3'!J8 -> 0.0070682305 | E8: ='Tables 1-3'!M8 -> 0.011625625 | F8: ='Tables 1-3'!J8 -> 0.0070682305 | H8: ='Tables 1-3'!N8 -> 0.012901508 | I8: =F8 -> 0.0070682305
A9: ='Tables 1-3'!I9 -> 41275 | B9: ='Tables 1-3'!K9 -> -0.14408949 | C9: ='Tables 1-3'!J9 -> 0.050428097 | E9: ='Tables 1-3'!M9 -> 0.02770499 | F9: ='Tables 1-3'!J9 -> 0.050428097 | H9: ='Tables 1-3'!N9 -> 0.06829424 | I9: =F9 -> 0.050428097
A10: ='Tables 1-3'!I10 -> 41306 | B10: ='Tables 1-3'!K10 -> -0.030933642 | C10: ='Tables 1-3'!J10 -> 0.011060649 | E10: ='Tables 1-3'!M10 -> 0.012750449 | F10: ='Tables 1-3'!J10 -> 0.011060649 | H10: ='Tables 1-3'!N10 -> 0.060223154 | I10: =F10 -> 0.011060649
A11: ='Tables 1-3'!I11 -> 41334 | B11: ='Tables 1-3'!K11 -> 0.0086990505 | C11: ='Tables 1-3'!J11 -> 0.035987724 | E11: ='Tables 1-3'!M11 -> 0.037657203 | F11: ='Tables 1-3'!J11 -> 0.035987724 | H11: ='Tables 1-3'!N11 -> -0.0087493797 | I11: =F11 -> 0.035987724
A12: ='Tables 1-3'!I12 -> 41365 | B12: ='Tables 1-3'!K12 -> 0.00027095849 | C12: ='Tables 1-3'!J12 -> 0.018085768 | E12: ='Tables 1-3'!M12 -> 0.15693841 | F12: ='Tables 1-3'!J12 -> 0.018085768 | H12: ='Tables 1-3'!N12 -> 0.038252794 | I12: =F12 -> 0.018085768
A13: ='Tables 1-3'!I13 -> 41395 | B13: ='Tables 1-3'!K13 -> 0.015696433 | C13: ='Tables 1-3'!J13 -> 0.020762812 | E13: ='Tables 1-3'!M13 -> 0.054380466 | F13: ='Tables 1-3'!J13 -> 0.020762812 | H13: ='Tables 1-3'!N13 -> 0.056574982 | I13: =F13 -> 0.020762812
A14: ='Tables 1-3'!I14 -> 41426 | B14: ='Tables 1-3'!K14 -> -0.11245719 | C14: ='Tables 1-3'!J14 -> -0.014999302 | E14: ='Tables 1-3'!M14 -> -0.003375272 | F14: ='Tables 1-3'!J14 -> -0.014999302 | H14: ='Tables 1-3'!N14 -> 0.010502459 | I14: =F14 -> -0.014999302
A15: ='Tables 1-3'!I15 -> 41456 | B15: ='Tables 1-3'!K15 -> 0.14122508 | C15: ='Tables 1-3'!J15 -> 0.04946208 | E15: ='Tables 1-3'!M15 -> -0.078170235 | F15: ='Tables 1-3'!J15 -> 0.04946208 | H15: ='Tables 1-3'!N15 -> 0.0083828811 | I15: =F15 -> 0.04946208
A16: ='Tables 1-3'!I16 -> 41487 | B16: ='Tables 1-3'!K16 -> 0.076658054 | C16: ='Tables 1-3'!J16 -> -0.031298019 | E16: ='Tables 1-3'!M16 -> 0.048994864 | F16: ='Tables 1-3'!J16 -> -0.031298019 | H16: ='Tables 1-3'!N16 -> -0.046015197 | I16: =F16 -> -0.031298019
A17: ='Tables 1-3'!I17 -> 41518 | B17: ='Tables 1-3'!K17 -> -0.015028579 | C17: ='Tables 1-3'!J17 -> 0.029749523 | E17: ='Tables 1-3'!M17 -> 0.0034285344 | F17: ='Tables 1-3'!J17 -> 0.029749523 | H17: ='Tables 1-3'!N17 -> 0.034254341 | I17: =F17 -> 0.029749523
A18: ='Tables 1-3'!I18 -> 41548 | B18: ='Tables 1-3'!K18 -> 0.096381996 | C18: ='Tables 1-3'!J18 -> 0.044595753 | E18: ='Tables 1-3'!M18 -> 0.064002475 | F18: ='Tables 1-3'!J18 -> 0.044595753 | H18: ='Tables 1-3'!N18 -> 0.17658205 | I18: =F18 -> 0.044595753
... A86: ='Tables 1-3'!I86 -> 43617 | B86: ='Tables 1-3'!K86 -> 0.13487274 | C86: ='Tables 1-3'!J86 -> 0.068930164 | E86: ='Tables 1-3'!M86 -> 0.087127097 | F86: ='Tables 1-3'!J86 -> 0.068930164 | H86: ='Tables 1-3'!N86 -> -0.020586583 | I86: =F86 -> 0.068930164

Sheet Table 5
A1: Apple Inc. | B1: S&P 500
A2: SUMMARY OUTPUT
A4: Regression Statistics
A5: Multiple R | B5: 0.50008022
A6: R Square | B6: 0.25008023
A7: Adjusted R Square | B7: 0.24093487
A8: Standard Error | B8: 0.065374176
A9: Observations | B9: 84
A11: ANOVA
B12: df | C12: SS | D12: MS | E12: F | F12: Significance F
A13: Regression | B13: 1 | C13: 0.11686672 | D13: 0.11686672 | E13: 27.34503 | F13: 1.2762449e-06
A14: Residual | B14: 82 | C14: 0.3504502 | D14: 0.0042737829
A15: Total | B15: 83 | C15: 0.46731692
B17: Coefficients | C17: Standard Error | D17: t Stat | E17: P-value | F17: Lower 95% | G17: Upper 95% | H17: Lower 95.0% | I17: Upper 95.0%
A18: Intercept | B18: 0.0033298407 | C18: 0.0074587771 | D18: 0.44643253 | E18: 0.65646158 | F18: -0.011508043 | G18: 0.018167724 | H18: -0.011508043 | I18: 0.018167724
A19: S&P 500 | B19: 1.1737727 | C19: 0.22446303 | D19: 5.2292476 | E19: 1.2762449e-06 | F19: 0.72724427 | G19: 1.6203012 | H19: 0.72724427 | I19: 1.6203012

Sheet Table 6
A1: MSFT | B1: S&P 500
A2: Similar to Table 5
A3: SUMMARY OUTPUT
A5: Regression Statistics
A6: Multiple R | B6: 0.55392854
A7: R Square | B7: 0.30683683
A8: Adjusted R Square | B8: 0.29838362
A9: Standard Error | B9: 0.04930219
A10: Observations | B10: 84
A12: ANOVA
B13: df | C13: SS | D13: MS | E13: F | F13: Significance F
A14: Regression | B14: 1 | C14: 0.088230405 | D14: 0.088230405 | E14: 36.298264 | F14: 4.6079915e-08
A15: Residual | B15: 82 | C15: 0.19931789 | D15: 0.0024307059
A16: Total | B16: 83 | C16: 0.28754829
B18: Coefficients | C18: Standard Error | D18: t Stat | E18: P-value | F18: Lower 95% | G18: Upper 95% | H18: Lower 95.0% | I18: Upper 95.0%
A19: Intercept | B19: 0.011592128 | C19: 0.0056250658 | D19: 2.0607986 | E19: 0.042491797 | F19: 0.00040207996 | G19: 0.022782176 | H19: 0.00040207996 | I19: 0.022782176
A20: S&P 500 | B20: 1.0198768 | C20: 0.16927967 | D20: 6.024804 | E20: 4.6079915e-08 | F20: 0.68312564 | G20: 1.356628 | H20: 0.68312564 | I20: 1.356628

Sheet Table 7
A1: GOOG | B1: S&P 500
A2: Similar to Table 5
A3: SUMMARY OUTPUT
A5: Regression Statistics
A6: Multiple R | B6: 0.54528289
A7: R Square | B7: 0.29733343
A8: Adjusted R Square | B8: 0.28876433
A9: Standard Error | B9: 0.049125797
A10: Observations | B10: 84
A12: ANOVA
B13: df | C13: SS | D13: MS | E13: F | F13: Significance F
A14: Regression | B14: 1 | C14: 0.083738953 | D14: 0.083738953 | E14: 34.698309 | F14: 8.1720665e-08
A15: Residual | B15: 82 | C15: 0.1978942 | D15: 0.002413344
A16: Total | B16: 83 | C16: 0.28163316
B18: Coefficients | C18: Standard Error | D18: t Stat | E18: P-value | F18: Lower 95% | G18: Upper 95% | H18: Lower 95.0% | I18: Upper 95.0%
A19: Intercept | B19: 0.0077987817 | C19: 0.0056049405 | D19: 1.391412 | E19: 0.16786394 | F19: -0.0033512305 | G19: 0.018948794 | H19: -0.0033512305 | I19: 0.018948794
A20: S&P 500 | B20: 0.99357887 | C20: 0.16867402 | D20: 5.890527 | E20: 8.1720665e-08 | F20: 0.65803251 | G20: 1.3291252 | H20: 0.65803251 | I20: 1.3291252

Sheet Optimal portfolios
A1: Risk free rate | B1: 0.02 | G1: Correlation | H1: S&P500
G2: MSFT | H2: ='Correlation matrix'!B5 -> 0.55392854 | O2: Discussion of A level
G3: GOOG | H3: ='Correlation matrix'!B6 -> 0.54528289
A5: Portfolio 1 | B5: S&P500 | C5: MSF | D5: Sharpe ratio of MSF | H5: Portfolio 2 | I5: S&P500 | J5: GOOG | K5: Sharpe ratio of GOOG
A6: return | B6: ='Tables 1-3'!J89 -> 0.11657653 | C6: ='Tables 1-3'!M89 -> 0.25799923 | D6: =(C6-B1)/C7 -> 0.3369597 | H6: return | I6: =B6 -> 0.11657653 | J6: ='Tables 1-3'!N89 -> 0.20941336 | K6: =(J6-I1)/J7 -> 0.29958515
A7: S.D. | B7: ='Tables 1-3'!J90 -> 0.3836221 | C7: ='Tables 1-3'!M90 -> 0.70631364 | H7: S.D. | I7: =B7 -> 0.3836221 | J7: ='Tables 1-3'!N90 -> 0.69901113
B8: S.D. | C8: return | D8: Apple Inc. | E8: MSFT | I8: S.D. | J8: return | K8: Apple Inc. | L8: GOOG
B9: =SQRT((E9^2*$C$7^2)+(D9^2*$B$7^2)+(2*E9*D9*$C$7*$B$7*$H$2)) -> 0.3836221 | C9: =E9*$C$6+D9*$B$6 -> 0.11657653 | D9: 1 | E9: 0 | I9: =SQRT((L9^2*$J$7^2)+(K9^2*$I$7^2)+(2*L9*K9*$J$7*$I$7*$H$3)) -> 0.3836221 | J9: =L9*$J$6+K9*$I$6 -> 0.11657653 | K9: 1 | L9: 0
B10: =SQRT((E10^2*$C$7^2)+(D10^2*B$7^2)+(2*E10*D10*$C$7*$B$7*$H$2)) -> 0.38512737 | C10: =E10*$C$6+D10*$B$6 -> 0.12364766 | D10: 0.95 | E10: 0.05 | I10: =SQRT((L10^2*$J$7^2)+(K10^2*$I$7^2)+(2*L10*K10*$J$7*$I$7*$H$3)) -> 0.38461639 | J10: =L10*$J$6+K10*$I$6 -> 0.12121837 | K10: 0.95 | L10: 0.05
B11: =SQRT((E11^2*$C$7^2)+(D11^2*B$7^2)+(2*E11*D11*$C$7*$B$7*$H$2)) -> 0.38885676 | C11: =E11*$C$6+D11*$B$6 -> 0.1307188 | D11: 0.9 | E11: 0.1 | I11: =SQRT((L11^2*$J$7^2)+(K11^2*$I$7^2)+(2*L11*K11*$J$7*$I$7*$H$3)) -> 0.3878277 | J11: =L11*$J$6+K11*$I$6 -> 0.12586021 | K11: 0.9 | L11: 0.1
B12: =SQRT((E12^2*$C$7^2)+(D12^2*B$7^2)+(2*E12*D12*$C$7*$B$7*$H$2)) -> 0.39474724 | C12: =E12*$C$6+D12*$B$6 -> 0.13778993 | D12: 0.85 | E12: 0.15 | I12: =SQRT((L12^2*$J$7^2)+(K12^2*$I$7^2)+(2*L12*K12*$J$7*$I$7*$H$3)) -> 0.39320171 | J12: =L12*$J$6+K12*$I$6 -> 0.13050205 | K12: 0.85 | L12: 0.15
B13: =SQRT((E13^2*$C$7^2)+(D13^2*B$7^2)+(2*E13*D13*$C$7*$B$7*$H$2)) -> 0.40270398 | C13: =E13*$C$6+D13*$B$6 -> 0.14486107 | D13: 0.8 | E13: 0.2 | I13: =SQRT((L13^2*$J$7^2)+(K13^2*$I$7^2)+(2*L13*K13*$J$7*$I$7*$H$3)) -> 0.40065141 | J13: =L13*$J$6+K13*$I$6 -> 0.13514389 | K13: 0.8 | L13: 0.2
B14: =SQRT((E14^2*$C$7^2)+(D14^2*B$7^2)+(2*E14*D14*$C$7*$B$7*$H$2)) -> 0.41260747 | C14: =E14*$C$6+D14*$B$6 -> 0.1519322 | D14: 0.75 | E14: 0.25 | I14: =SQRT((L14^2*$J$7^2)+(K14^2*$I$7^2)+(2*L14*K14*$J$7*$I$7*$H$3)) -> 0.41006367 | J14: =L14*$J$6+K14*$I$6 -> 0.13978573 | K14: 0.75 | L14: 0.25
B15: =SQRT((E15^2*$C$7^2)+(D15^2*B$7^2)+(2*E15*D15*$C$7*$B$7*$H$2)) -> 0.42432142 | C15: =E15*$C$6+D15*$B$6 -> 0.15900334 | D15: 0.7 | E15: 0.3 | I15: =SQRT((L15^2*$J$7^2)+(K15^2*$I$7^2)+(2*L15*K15*$J$7*$I$7*$H$3)) -> 0.421307 | J15: =L15*$J$6+K15*$I$6 -> 0.14442758 | K15: 0.7 | L15: 0.3
B16: =SQRT((E16^2*$C$7^2)+(D16^2*B$7^2)+(2*E16*D16*$C$7*$B$7*$H$2)) -> 0.4377005 | C16: =E16*$C$6+D16*$B$6 -> 0.16607447 | D16: 0.65 | E16: 0.35 | I16: =SQRT((L16^2*$J$7^2)+(K16^2*$I$7^2)+(2*L16*K16*$J$7*$I$7*$H$3)) -> 0.43423917 | J16: =L16*$J$6+K16*$I$6 -> 0.14906942 | K16: 0.65 | L16: 0.35
B17: =SQRT((E17^2*$C$7^2)+(D17^2*B$7^2)+(2*E17*D17*$C$7*$B$7*$H$2)) -> 0.45259705 | C17: =E17*$C$6+D17*$B$6 -> 0.17314561 | D17: 0.6 | E17: 0.4 | I17: =SQRT((L17^2*$J$7^2)+(K17^2*$I$7^2)+(2*L17*K17*$J$7*$I$7*$H$3)) -> 0.4487142 | J17: =L17*$J$6+K17*$I$6 -> 0.15371126 | K17: 0.6 | L17: 0.4
B18: =SQRT((E18^2*$C$7^2)+(D18^2*B$7^2)+(2*E18*D18*$C$7*$B$7*$H$2)) -> 0.46886648 | C18: =E18*$C$6+D18*$B$6 -> 0.18021674 | D18: 0.55 | E18: 0.45 | I18: =SQRT((L18^2*$J$7^2)+(K18^2*$I$7^2)+(2*L18*K18*$J$7*$I$7*$H$3)) -> 0.46458789 | J18: =L18*$J$6+K18*$I$6 -> 0.1583531 | K18: 0.55 | L18: 0.45
B19: =SQRT((E19^2*$C$7^2)+(D19^2*B$7^2)+(2*E19*D19*$C$7*$B$7*$H$2)) -> 0.48637102 | C19: =E19*$C$6+D19*$B$6 -> 0.18728788 | D19: 0.5 | E19: 0.5 | I19: =SQRT((L19^2*$J$7^2)+(K19^2*$I$7^2)+(2*L19*K19*$J$7*$I$7*$H$3)) -> 0.48172201 | J19: =L19*$J$6+K19*$I$6 -> 0.16299494 | K19: 0.5 | L19: 0.5
B20: =SQRT((E20^2*$C$7^2)+(D20^2*B$7^2)+(2*E20*D20*$C$7*$B$7*$H$2)) -> 0.50498226 | C20: =E20*$C$6+D20*$B$6 -> 0.19435901 | D20: 0.45 | E20: 0.55 | I20: =SQRT((L20^2*$J$7^2)+(K20^2*$I$7^2)+(2*L20*K20*$J$7*$I$7*$H$3)) -> 0.49998697 | J20: =L20*$J$6+K20*$I$6 -> 0.16763678 | K20: 0.45 | L20: 0.55
B21: =SQRT((E21^2*$C$7^2)+(D21^2*B$7^2)+(2*E21*D21*$C$7*$B$7*$H$2)) -> 0.52458241 | C21: =E21*$C$6+D21*$B$6 -> 0.20143015 | D21: 0.4 | E21: 0.6 | I21: =SQRT((L21^2*$J$7^2)+(K21^2*$I$7^2)+(2*L21*K21*$J$7*$I$7*$H$3)) -> 0.51926348 | J21: =L21*$J$6+K21*$I$6 -> 0.17227862 | K21: 0.4 | L21: 0.6
... B29: =SQRT((E29^2*$C$7^2)+(D29^2*B$7^2)+(2*E29*D29*$C$7*$B$7*$H$2)) -> 0.70631364 | C29: =E29*$C$6+D29*$B$6 -> 0.25799923 | D29: 0 | E29: 1 | I29: =SQRT((L29^2*$J$7^2)+(K29^2*$I$7^2)+(2*L29*K29*$J$7*$I$7*$H$3)) -> 0.69901113 | J29: =L29*$J$6+K29*$I$6 -> 0.20941336 | K29: 0 | L29: 1
A32: Optimal portfolio | H32: Optimal portfolio
A34: Sharpe ratio | B34: =D6 -> 0.3369597 | H34: Sharpe ratio | I34: =K6 -> 0.29958515
D36: Weight 1 | E36: Weight 2 | K36: Weight 1 | L36: Weight 2
D37: =B39 -> 0.5 | E37: =B40 -> 0.5 | K37: =I39 -> 0.5 | L37: =I40 -> 0.5
D38: Apple Inc. | E38: MSF | K38: Apple Inc. | L38: GOOG
A39: Weight 1 | B39: 0.5 | C39: S&P500 | D39: =(D37*B7+D37*'Tables 1-3'!J90)^2 -> 0.14716591 | E39: =(E37*C7+E37*'Tables 1-3'!J90)^2 -> 0.29698998 | H39: Weight 1 | I39: 0.5 | J39: S&P500 | K39: =D39 -> 0.14716591 | L39: =(L37*J7+L37*'Tables 1-3'!J90)^2 -> 0.29302368
A40: Weight 2 | B40: 0.5 | C40: MSFT | D40: =(D37*B7+D37*C7)^2 -> 0.29698998 | E40: =(E37*C7)^2 -> 0.12471974 | H40: GOOG | I40: 0.5 | J40: GOOG | K40: =(K37*I7+L37*J7)^2 -> 0.29302368 | L40: =(L37*J7)^2 -> 0.12215414
B41: =B39+B40 -> 1 | D41: =D37*SUMPRODUCT(B39:B40, D39:D40) -> 0.11103897 | E41: =E37*SUMPRODUCT(B39:B40, E39:E40) -> 0.10542743 | I41: =I39+I40 -> 1 | K41: =K37*SUMPRODUCT(I39:I40, K39:K40) -> 0.1100474 | L41: =L37*SUMPRODUCT(I39:I40, L39:L40) -> 0.10379445
B42: =D37*B6+E37*C6 -> 0.18728788 | C42: mean | I42: =K37*I6+L37*J6 -> 0.16299494 | J42: mean
B43: =(D41+E41)^0.5 -> 0.4652595 | C43: S.D. | I43: =(K41+L41)^0.5 -> 0.46243038 | J43: S.D.
B44: =(B42-$B$1)/B43 -> 0.35955822 | C44: Sharpe | I44: =(I42-$B$1)/I43 -> 0.3092248 | J44: Sharpe

Sheet Complete portfolio
K1: Complete Portfolio with chosen optimal risky portfolio
A3: Portfolio 1 | B3: S.D. | C3: return | F3: Portfolio 2 | G3: S.D. | H3: return | K3: A
B4: ='Optimal portfolios'!B19 -> 0.48637102 | C4: ='Optimal portfolios'!C19 -> 0.18728788 | G4: ='Optimal portfolios'!I19 -> 0.48172201 | H4: ='Optimal portfolios'!J19 -> 0.16299494 | K4: y
K5: 1-y
A6: CAPITAL ALLOCATION DECISION | F6: CAPITAL ALLOCATION DECISION | K6: CP return | L6: =C4 -> 0.18728788
B7: T-Bill | C7: Optimal Risky Portfolio | D7: Capital Allocation | G7: T-Bill | H7: Optimal Risky Portfolio | I7: Capital Allocation | K7: CP S.D. | L7: =B4 -> 0.48637102
A8: Weight | B8: 0.55281353 | C8: =1-B8 -> 0.44718647 | F8: Weight | G8: 0.60281353 | H8: =1-G8 -> 0.39718647 | K8: Sharpe ratio | L8: ='Optimal portfolios'!B44 -> 0.35955822
A9: Standard Deviation | B9: 0 | C9: ='Optimal portfolios'!B43 -> 0.4652595 | D9: =C8*C9 -> 0.20805775 | F9: Standard Deviation | G9: 0 | H9: ='Optimal portfolios'!I43 -> 0.46243038 | I9: =H8*H9 -> 0.18367109
A10: Mean | B10: ='Optimal portfolios'!B1 -> 0.02 | C10: ='Optimal portfolios'!B42 -> 0.18728788 | D10: =B8*B10+C8*C10 -> 0.094808876 | F10: Mean | G10: =B10 -> 0.02 | H10: ='Optimal portfolios'!I42 -> 0.16299494 | I10: =G8*G10+H8*H10 -> 0.076795656 | L10: β | M10: E(r) | N10: α
K11: Apple Inc. | L11: ='Regression inputs'!L3 -> 1.09 | M11: =H37 -> 0.12526842 | N11: ='Tables 1-3'!K89-'Complete portfolio'!M11 -> 0.051524023
A12: FINAL PORTFOLIO | F12: FINAL PORTFOLIO | K12: MSFT | L12: ='Regression inputs'!M3 -> 1.02 | M12: =C38 -> 0.11850806 | N12: ='Tables 1-3'!N89-'Complete portfolio'!M12 -> 0.090905297
B13: T-Bill | C13: Apple Inc. | D13: MSF | G13: T-Bill | H13: Apple Inc. | I13: GOOG | K13: Optimal risky portfolio | L13: ='Optimal portfolios'!K37*L11+L12*'Optimal portfolios'!L37 -> 1.055 | M13: ='Optimal portfolios'!K37*M11+'Complete portfolio'!M12*'Optimal portfolios'!L37 -> 0.12188824 | N13: ='Optimal portfolios'!I42-'Complete portfolio'!M13 -> 0.041106705
A14: Weight | B14: =B8 -> 0.55281353 | C14: ='Optimal portfolios'!B6*C8 -> 0.052131446 | D14: =C8*'Optimal portfolios'!C6 -> 0.11537377 | F14: Weight | G14: =G8 -> 0.60281353 | H14: ='Optimal portfolios'!B6*H8 -> 0.04630262 | I14: ='Optimal portfolios'!J6*H8 -> 0.083176152
A15: Dollar Investment | B15: =B16*B14 -> 55281.353 | C15: =B16*C14 -> 5213.1446 | D15: =B16*D14 -> 11537.377 | F15: Dollar Investment | G15: =G16*G14 -> 60281.353 | H15: =G16*H14 -> 4630.262 | I15: =G16*I14 -> 8317.6152
A16: Total investment | B16: 100000 | F16: Total investment | G16: 100000
A24: Optimal | F24: Optimal
A28: Two graphs
A30: Risk-free Rate | B30: ='Optimal portfolios'!B1 -> 0.02 | F30: Risk-free Rate | G30: =B30 -> 0.02
A31: Average return on S&P 500 | B31: ='Tables 1-3'!J89 -> 0.11657653 | F31: Average return on S&P 500 | G31: =B31 -> 0.11657653
A32: Expected return on the market portfolio | B32: =B31 -> 0.11657653 | F32: Expected return on the market portfolio | G32: =B32 -> 0.11657653
B34: β | C34: E(r) | G34: β | H34: E(r)
A35: T-bill | B35: 0 | C35: =B30 -> 0.02 | F35: T-bill | G35: 0 | H35: =B30 -> 0.02
A36: S&P 500 | B36: 1 | C36: =B30+B36*(B32-B30) -> 0.11657653 | F36: S&P 500 | G36: 1 | H36: =B31 -> 0.11657653
A37: Apple Inc | B37: ='Regression inputs'!L3 -> 1.09 | C37: =B30+B37*(B32-B30) -> 0.12526842 | F37: Apple Inc | G37: =B37 -> 1.09 | H37: =G30+(G37*(G32-G30)) -> 0.12526842
A38: MSF | B38: ='Regression inputs'!M3 -> 1.02 | C38: =B30+B38*(B32-B30) -> 0.11850806 | F38: GOOG | G38: ='Regression inputs'!N3 -> 0.99 | H38: =G30+G38*(G32-G30) -> 0.11561076
